BEGIN:VCALENDAR
VERSION:2.0
PRODID:-//Bolst Global - ECPv6.15.20//NONSGML v1.0//EN
CALSCALE:GREGORIAN
METHOD:PUBLISH
X-ORIGINAL-URL:https://bolstglobal.com
X-WR-CALDESC:Events for Bolst Global
REFRESH-INTERVAL;VALUE=DURATION:PT1H
X-Robots-Tag:noindex
X-PUBLISHED-TTL:PT1H
BEGIN:VTIMEZONE
TZID:UTC
BEGIN:STANDARD
TZOFFSETFROM:+0000
TZOFFSETTO:+0000
TZNAME:UTC
DTSTART:20250101T000000
END:STANDARD
END:VTIMEZONE
BEGIN:VEVENT
DTSTART;TZID=UTC:20260929T100000
DTEND;TZID=UTC:20261001T220000
DTSTAMP:20260424T095408
CREATED:20260202T150410Z
LAST-MODIFIED:20260202T150559Z
UID:9029-1790676000-1790892000@bolstglobal.com
SUMMARY:FIBO Arabia
DESCRIPTION:FIBO Arabia is the Middle East edition of the global FIBO brand\, focused on fitness\, health\, wellness and active lifestyle markets. Held in Riyadh\, the event brings together gym operators\, fitness professionals\, distributors\, retailers and brands operating across sports nutrition\, supplements\, equipment and wellness services. \nFor supplement and wellness brands\, FIBO Arabia offers insight into how performance\, preventative health and active lifestyle categories are developing within Saudi Arabia. Attendees include decision-makers exploring scalable\, compliant products aligned with Saudi consumer demand and the Kingdom’s wider Vision 2030 health and wellbeing ambitions. \nIf you are a fitness\, nutrition or wellness brand considering expansion into Saudi Arabia and would like to discuss market suitability\, positioning or route-to-market strategy\, get in touch with Bolst Global to explore next steps.
URL:https://bolstglobal.com/event/fibo-arabia/
LOCATION:Riyadh Front Exhibition & Conference Center\, Riyadh Front Exhibition & Conference Center
CATEGORIES:Saudi Arabia
ATTACH;FMTTYPE=image/jpeg:https://bolstglobal.com/wp-content/uploads/2026/02/FIBO.jpg
END:VEVENT
BEGIN:VEVENT
DTSTART;TZID=UTC:20261026T100000
DTEND;TZID=UTC:20261029T170000
DTSTAMP:20260424T095408
CREATED:20260202T130337Z
LAST-MODIFIED:20260202T150445Z
UID:9018-1793008800-1793293200@bolstglobal.com
SUMMARY:Global Health Saudi
DESCRIPTION:Global Health Saudi is a major healthcare trade exhibition held in Riyadh\, bringing together healthcare providers\, policymakers\, distributors\, manufacturers and international brands operating across the Saudi market. The event reflects Saudi Arabia’s continued investment in healthcare\, prevention and life sciences as part of Vision 2030. \nFor health\, wellness and supplement brands\, Global Health Saudi offers valuable insight into how healthcare and preventative health are evolving in the Kingdom\, including buyer expectations\, regulatory considerations and route-to-market structures. Attendees typically include hospital groups\, pharmacy chains\, distributors and government-aligned stakeholders exploring credible\, compliant solutions that can scale locally. \nIf you are considering opportunities within Saudi Arabia’s healthcare or health and wellness sectors and would like to discuss market suitability\, positioning or route-to-market strategy\, get in touch with our team.
URL:https://bolstglobal.com/event/global-health-saudi/
LOCATION:Riyadh Front Exhibition & Conference Center\, Riyadh Front Exhibition & Conference Center
CATEGORIES:Saudi Arabia
ATTACH;FMTTYPE=image/jpeg:https://bolstglobal.com/wp-content/uploads/2026/02/Global-Health-Expo-Saudi.webp.jpg
END:VEVENT
END:VCALENDAR